Workbook

Sheet 棚卸表
A1: 棚卸表
A2: 実施日： | B2: （例）2026/09/30 | D2: ※黄色のセルにご記入ください。数量・単価を入力すると金額は自動計算されます。
A4: No | B4: 品目コード | C4: 品名 | D4: ロケーション | E4: 数量 | F4: 単価（円） | G4: 金額（円） | H4: 記入者 | I4: 確認者 | J4: 備考
A5: 1 | B5: A001 | C5: 〇〇部品 | D5: 第1倉庫 A棚 | E5: 120 | F5: 350 | G5: =E5*F5 -> 42000 | H5: 山田 | I5: 鈴木 | J5: 例：初回カウント分
G6: =IF(OR(E6="",F6=""),"",E6*F6)
G7: =IF(OR(E7="",F7=""),"",E7*F7)
G8: =IF(OR(E8="",F8=""),"",E8*F8)
G9: =IF(OR(E9="",F9=""),"",E9*F9)
G10: =IF(OR(E10="",F10=""),"",E10*F10)
G11: =IF(OR(E11="",F11=""),"",E11*F11)
G12: =IF(OR(E12="",F12=""),"",E12*F12)
G13: =IF(OR(E13="",F13=""),"",E13*F13)
G14: =IF(OR(E14="",F14=""),"",E14*F14)
G15: =IF(OR(E15="",F15=""),"",E15*F15)
G16: =IF(OR(E16="",F16=""),"",E16*F16)
G17: =IF(OR(E17="",F17=""),"",E17*F17)
... G55: =IF(OR(E55="",F55=""),"",E55*F55)
F57: 合計金額 | G57: =SUM(G6:G55) -> 0

Sheet ロケーション別集計
A1: ロケーション別集計
A3: ※「棚卸表」シートに入力されたデータをもとに、ロケーションごとの数量・金額を自動集計します。
A5: ロケーション | B5: 数量合計 | C5: 金額合計（円）
A6: 第1倉庫 A棚 | B6: =IF(A6="","",SUMIF('棚卸表'!$D$5:$D$55,A6,'棚卸表'!$E$5:$E$55)) -> 120 | C6: =IF(A6="","",SUMIF('棚卸表'!$D$5:$D$55,A6,'棚卸表'!$G$5:$G$55)) -> 42000
B7: =IF(A7="","",SUMIF('棚卸表'!$D$5:$D$55,A7,'棚卸表'!$E$5:$E$55)) | C7: =IF(A7="","",SUMIF('棚卸表'!$D$5:$D$55,A7,'棚卸表'!$G$5:$G$55))
B8: =IF(A8="","",SUMIF('棚卸表'!$D$5:$D$55,A8,'棚卸表'!$E$5:$E$55)) | C8: =IF(A8="","",SUMIF('棚卸表'!$D$5:$D$55,A8,'棚卸表'!$G$5:$G$55))
B9: =IF(A9="","",SUMIF('棚卸表'!$D$5:$D$55,A9,'棚卸表'!$E$5:$E$55)) | C9: =IF(A9="","",SUMIF('棚卸表'!$D$5:$D$55,A9,'棚卸表'!$G$5:$G$55))
B10: =IF(A10="","",SUMIF('棚卸表'!$D$5:$D$55,A10,'棚卸表'!$E$5:$E$55)) | C10: =IF(A10="","",SUMIF('棚卸表'!$D$5:$D$55,A10,'棚卸表'!$G$5:$G$55))
B11: =IF(A11="","",SUMIF('棚卸表'!$D$5:$D$55,A11,'棚卸表'!$E$5:$E$55)) | C11: =IF(A11="","",SUMIF('棚卸表'!$D$5:$D$55,A11,'棚卸表'!$G$5:$G$55))
B12: =IF(A12="","",SUMIF('棚卸表'!$D$5:$D$55,A12,'棚卸表'!$E$5:$E$55)) | C12: =IF(A12="","",SUMIF('棚卸表'!$D$5:$D$55,A12,'棚卸表'!$G$5:$G$55))
B13: =IF(A13="","",SUMIF('棚卸表'!$D$5:$D$55,A13,'棚卸表'!$E$5:$E$55)) | C13: =IF(A13="","",SUMIF('棚卸表'!$D$5:$D$55,A13,'棚卸表'!$G$5:$G$55))
B14: =IF(A14="","",SUMIF('棚卸表'!$D$5:$D$55,A14,'棚卸表'!$E$5:$E$55)) | C14: =IF(A14="","",SUMIF('棚卸表'!$D$5:$D$55,A14,'棚卸表'!$G$5:$G$55))
B15: =IF(A15="","",SUMIF('棚卸表'!$D$5:$D$55,A15,'棚卸表'!$E$5:$E$55)) | C15: =IF(A15="","",SUMIF('棚卸表'!$D$5:$D$55,A15,'棚卸表'!$G$5:$G$55))
